BEGIN:VCALENDAR
VERSION:2.0
PRODID:-//Roseville Rotary - ECPv6.15.20//NONSGML v1.0//EN
CALSCALE:GREGORIAN
METHOD:PUBLISH
X-ORIGINAL-URL:https://www.rosevillerotary.com
X-WR-CALDESC:Events for Roseville Rotary
REFRESH-INTERVAL;VALUE=DURATION:PT1H
X-Robots-Tag:noindex
X-PUBLISHED-TTL:PT1H
BEGIN:VTIMEZONE
TZID:America/Los_Angeles
BEGIN:DAYLIGHT
TZOFFSETFROM:-0800
TZOFFSETTO:-0700
TZNAME:PDT
DTSTART:20250309T100000
END:DAYLIGHT
BEGIN:STANDARD
TZOFFSETFROM:-0700
TZOFFSETTO:-0800
TZNAME:PST
DTSTART:20251102T090000
END:STANDARD
BEGIN:DAYLIGHT
TZOFFSETFROM:-0800
TZOFFSETTO:-0700
TZNAME:PDT
DTSTART:20260308T100000
END:DAYLIGHT
BEGIN:STANDARD
TZOFFSETFROM:-0700
TZOFFSETTO:-0800
TZNAME:PST
DTSTART:20261101T090000
END:STANDARD
BEGIN:DAYLIGHT
TZOFFSETFROM:-0800
TZOFFSETTO:-0700
TZNAME:PDT
DTSTART:20270314T100000
END:DAYLIGHT
BEGIN:STANDARD
TZOFFSETFROM:-0700
TZOFFSETTO:-0800
TZNAME:PST
DTSTART:20271107T090000
END:STANDARD
END:VTIMEZONE
BEGIN:VEVENT
DTSTART;VALUE=DATE:20260126
DTEND;VALUE=DATE:20260127
DTSTAMP:20260422T115222
CREATED:20260112T191112Z
LAST-MODIFIED:20260112T191112Z
UID:10000624-1769385600-1769471999@www.rosevillerotary.com
SUMMARY:National Blood Donor Month\, Rotary Blood Drive (Code "SMFD115")
DESCRIPTION:January is National Blood Donor Month. Please join us any day this month (actually\, you can always donate blood any month doesn’t have to be in January). Please give them the code “69” so our club gets credit. \nVitalant Blood Donation \n\nhttps://www.vitalant.org/donate/locations/blood-donation-roseville\n10529 Fairway Dr.\, Ste 100\, Roseville \n(877) 258-4825\n\n\nHours\n\nMon7:00 am – 4:30 pm\nTue11:15 am – 6:15 pm\nWed10:30 am – 5:30 pm\nThur6:30 am – 2:00 pm\nFri6:30 am – 2:00 pm\nSat6:30 am – 1:30 pm\nSun6:30 am – 3:30 pm
URL:https://www.rosevillerotary.com/event/national-blood-donor-month-rotary-blood-drive-use-code-69-4/
LOCATION:Vitalant Blood Donation: 10529 Fairway Dr.\, Ste 100
CATEGORIES:Public
ATTACH;FMTTYPE=image/jpeg:https://www.rosevillerotary.com/wp-content/uploads/2025/12/Blood-Drive.jpg
END:VEVENT
BEGIN:VEVENT
DTSTART;VALUE=DATE:20260119
DTEND;VALUE=DATE:20260120
DTSTAMP:20260422T115222
CREATED:20260112T191048Z
LAST-MODIFIED:20260112T191048Z
UID:10000623-1768780800-1768867199@www.rosevillerotary.com
SUMMARY:National Blood Donor Month\, Rotary Blood Drive (Code "SMFD115")
DESCRIPTION:January is National Blood Donor Month. Please join us any day this month (actually\, you can always donate blood any month doesn’t have to be in January). Please give them the code “69” so our club gets credit. \nVitalant Blood Donation \n\nhttps://www.vitalant.org/donate/locations/blood-donation-roseville\n10529 Fairway Dr.\, Ste 100\, Roseville \n(877) 258-4825\n\n\nHours\n\nMon7:00 am – 4:30 pm\nTue11:15 am – 6:15 pm\nWed10:30 am – 5:30 pm\nThur6:30 am – 2:00 pm\nFri6:30 am – 2:00 pm\nSat6:30 am – 1:30 pm\nSun6:30 am – 3:30 pm
URL:https://www.rosevillerotary.com/event/national-blood-donor-month-rotary-blood-drive-use-code-69-3/
LOCATION:Vitalant Blood Donation: 10529 Fairway Dr.\, Ste 100
CATEGORIES:Public
ATTACH;FMTTYPE=image/jpeg:https://www.rosevillerotary.com/wp-content/uploads/2025/12/Blood-Drive.jpg
END:VEVENT
BEGIN:VEVENT
DTSTART;VALUE=DATE:20260112
DTEND;VALUE=DATE:20260113
DTSTAMP:20260422T115222
CREATED:20260112T191017Z
LAST-MODIFIED:20260112T191017Z
UID:10000622-1768176000-1768262399@www.rosevillerotary.com
SUMMARY:National Blood Donor Month\, Rotary Blood Drive (Code "SMFD115")
DESCRIPTION:January is National Blood Donor Month. Please join us any day this month (actually\, you can always donate blood any month doesn’t have to be in January). Please give them the code “69” so our club gets credit. \nVitalant Blood Donation \n\nhttps://www.vitalant.org/donate/locations/blood-donation-roseville\n10529 Fairway Dr.\, Ste 100\, Roseville \n(877) 258-4825\n\n\nHours\n\nMon7:00 am – 4:30 pm\nTue11:15 am – 6:15 pm\nWed10:30 am – 5:30 pm\nThur6:30 am – 2:00 pm\nFri6:30 am – 2:00 pm\nSat6:30 am – 1:30 pm\nSun6:30 am – 3:30 pm
URL:https://www.rosevillerotary.com/event/national-blood-donor-month-rotary-blood-drive-use-code-69-2/
LOCATION:Vitalant Blood Donation: 10529 Fairway Dr.\, Ste 100
CATEGORIES:Public
ATTACH;FMTTYPE=image/jpeg:https://www.rosevillerotary.com/wp-content/uploads/2025/12/Blood-Drive.jpg
END:VEVENT
BEGIN:VEVENT
DTSTART;VALUE=DATE:20260105
DTEND;VALUE=DATE:20260106
DTSTAMP:20260422T115222
CREATED:20251218T225255Z
LAST-MODIFIED:20251218T225255Z
UID:10000621-1767571200-1767657599@www.rosevillerotary.com
SUMMARY:National Blood Donor Month\, Rotary Blood Drive (Use Code #69)
DESCRIPTION:January is National Blood Donor Month. Please join us any day this month (actually\, you can always donate blood any month doesn’t have to be in January). Please give them the code “69” so our club gets credit. \nVitalant Blood Donation \n\nhttps://www.vitalant.org/donate/locations/blood-donation-roseville\n10529 Fairway Dr.\, Ste 100\, Roseville \n(877) 258-4825\n\n\nHours\n\nMon7:00 am – 4:30 pm\nTue11:15 am – 6:15 pm\nWed10:30 am – 5:30 pm\nThur6:30 am – 2:00 pm\nFri6:30 am – 2:00 pm\nSat6:30 am – 1:30 pm\nSun6:30 am – 3:30 pm
URL:https://www.rosevillerotary.com/event/national-blood-donor-month-rotary-blood-drive-use-code-69/2026-01-05/
LOCATION:Vitalant Blood Donation: 10529 Fairway Dr.\, Ste 100
CATEGORIES:Public
ATTACH;FMTTYPE=image/jpeg:https://www.rosevillerotary.com/wp-content/uploads/2025/12/Blood-Drive.jpg
END:VEVENT
END:VCALENDAR